BEGIN:VCALENDAR
VERSION:2.0
PRODID:-//South Charlotte Partners - ECPv6.15.20//NONSGML v1.0//EN
CALSCALE:GREGORIAN
METHOD:PUBLISH
X-WR-CALNAME:South Charlotte Partners
X-ORIGINAL-URL:https://southcharlottepartners.com
X-WR-CALDESC:Events for South Charlotte Partners
REFRESH-INTERVAL;VALUE=DURATION:PT1H
X-Robots-Tag:noindex
X-PUBLISHED-TTL:PT1H
BEGIN:VTIMEZONE
TZID:America/Halifax
BEGIN:DAYLIGHT
TZOFFSETFROM:-0400
TZOFFSETTO:-0300
TZNAME:ADT
DTSTART:20250309T060000
END:DAYLIGHT
BEGIN:STANDARD
TZOFFSETFROM:-0300
TZOFFSETTO:-0400
TZNAME:AST
DTSTART:20251102T050000
END:STANDARD
BEGIN:DAYLIGHT
TZOFFSETFROM:-0400
TZOFFSETTO:-0300
TZNAME:ADT
DTSTART:20260308T060000
END:DAYLIGHT
BEGIN:STANDARD
TZOFFSETFROM:-0300
TZOFFSETTO:-0400
TZNAME:AST
DTSTART:20261101T050000
END:STANDARD
BEGIN:DAYLIGHT
TZOFFSETFROM:-0400
TZOFFSETTO:-0300
TZNAME:ADT
DTSTART:20270314T060000
END:DAYLIGHT
BEGIN:STANDARD
TZOFFSETFROM:-0300
TZOFFSETTO:-0400
TZNAME:AST
DTSTART:20271107T050000
END:STANDARD
END:VTIMEZONE
BEGIN:VEVENT
DTSTART;TZID=America/Halifax:20260506T170000
DTEND;TZID=America/Halifax:20260506T190000
DTSTAMP:20260423T122122
CREATED:20260402T190016Z
LAST-MODIFIED:20260402T190507Z
UID:2445-1778086800-1778094000@southcharlottepartners.com
SUMMARY:Business Engagement Networking
DESCRIPTION:Buy Tickets Now\n\n\n\n\nConnect\, Collaborate\, and Grow in South Charlotte! \nJoin us for a casual networking evening at Blackfinn Ballantyne! Connect with local business partners\, share ideas\, and build valuable relationships. This is a great chance to grow your network in a relaxed atmosphere.
URL:https://southcharlottepartners.com/event/business-engagement-networking/
LOCATION:Blackfinn Ameripub Ballantyne\, 14825 Ballantyne Village Way\, Charlotte\, NC\, 28277\, United States
END:VEVENT
END:VCALENDAR